BEGIN:VCALENDAR
VERSION:2.0
PRODID:-//jEvents 2.0 for Joomla//EN
CALSCALE:GREGORIAN
METHOD:PUBLISH
BEGIN:VTIMEZONE
TZID:Europe/Berlin
BEGIN:STANDARD
DTSTART:20241104T080000
RDATE:20250330T030000
TZOFFSETFROM:+0200
TZOFFSETTO:+0100
TZNAME:Europe/Berlin CET
END:STANDARD
BEGIN:STANDARD
DTSTART:20251026T020000
RDATE:20260329T030000
TZOFFSETFROM:+0200
TZOFFSETTO:+0100
TZNAME:Europe/Berlin CET
END:STANDARD
BEGIN:STANDARD
DTSTART:20261025T020000
RDATE:20270328T030000
TZOFFSETFROM:+0200
TZOFFSETTO:+0100
TZNAME:Europe/Berlin CET
END:STANDARD
BEGIN:STANDARD
DTSTART:20271031T020000
RDATE:20280326T030000
TZOFFSETFROM:+0200
TZOFFSETTO:+0100
TZNAME:Europe/Berlin CET
END:STANDARD
BEGIN:STANDARD
DTSTART:20281029T020000
RDATE:20290325T030000
TZOFFSETFROM:+0200
TZOFFSETTO:+0100
TZNAME:Europe/Berlin CET
END:STANDARD
BEGIN:STANDARD
DTSTART:20291028T020000
RDATE:20300331T030000
TZOFFSETFROM:+0200
TZOFFSETTO:+0100
TZNAME:Europe/Berlin CET
END:STANDARD
BEGIN:STANDARD
DTSTART:20301027T020000
RDATE:20310330T030000
TZOFFSETFROM:+0200
TZOFFSETTO:+0100
TZNAME:Europe/Berlin CET
END:STANDARD
BEGIN:STANDARD
DTSTART:20311026T020000
RDATE:20320328T030000
TZOFFSETFROM:+0200
TZOFFSETTO:+0100
TZNAME:Europe/Berlin CET
END:STANDARD
BEGIN:DAYLIGHT
DTSTART:20250330T030000
RDATE:20251026T020000
TZOFFSETFROM:+0100
TZOFFSETTO:+0200
TZNAME:Europe/Berlin CEST
END:DAYLIGHT
BEGIN:DAYLIGHT
DTSTART:20260329T030000
RDATE:20261025T020000
TZOFFSETFROM:+0100
TZOFFSETTO:+0200
TZNAME:Europe/Berlin CEST
END:DAYLIGHT
BEGIN:DAYLIGHT
DTSTART:20270328T030000
RDATE:20271031T020000
TZOFFSETFROM:+0100
TZOFFSETTO:+0200
TZNAME:Europe/Berlin CEST
END:DAYLIGHT
BEGIN:DAYLIGHT
DTSTART:20280326T030000
RDATE:20281029T020000
TZOFFSETFROM:+0100
TZOFFSETTO:+0200
TZNAME:Europe/Berlin CEST
END:DAYLIGHT
BEGIN:DAYLIGHT
DTSTART:20290325T030000
RDATE:20291028T020000
TZOFFSETFROM:+0100
TZOFFSETTO:+0200
TZNAME:Europe/Berlin CEST
END:DAYLIGHT
BEGIN:DAYLIGHT
DTSTART:20300331T030000
RDATE:20301027T020000
TZOFFSETFROM:+0100
TZOFFSETTO:+0200
TZNAME:Europe/Berlin CEST
END:DAYLIGHT
BEGIN:DAYLIGHT
DTSTART:20310330T030000
RDATE:20311026T020000
TZOFFSETFROM:+0100
TZOFFSETTO:+0200
TZNAME:Europe/Berlin CEST
END:DAYLIGHT
END:VTIMEZONE
BEGIN:VEVENT
UID:ce863ba25053e585a8fceaa766440977
CATEGORIES:Training
CREATED:20250304T122232
SUMMARY:Vereinstraining Schwimmbad Itzehoe
DESCRIPTION:Jeden Mittwoch findet unser Vereinstraining im Schwimmbad Itzehoe außerhalb
  der Öffnungszeiten statt.\nAnmeldungen bitte vorher über Holger Wiese\nDie
 se E-Mail-Adresse ist vor Spambots geschützt! Zur Anzeige muss JavaScript e
 ingeschaltet sein!
				document.getElementById('cloak95fe0076562756b00ba9e2
 d000c963bd').innerHTML = '';
				var prefix = '&#109;a' + 'i&#108;' + '&#11
 6;o';
				var path = 'hr' + 'ef' + '=';
				var addy95fe0076562756b00ba9e2d
 000c963bd = 'h&#111;lg&#101;r.w&#105;&#101;s&#101;' + '&#64;';
				addy95fe
 0076562756b00ba9e2d000c963bd = addy95fe0076562756b00ba9e2d000c963bd + 't&#9
 7;&#117;chcl&#117;b-&#97;ct&#105;n&#105;&#97;' + '&#46;' + 'd&#101;';
				v
 ar addy_text95fe0076562756b00ba9e2d000c963bd = 'h&#111;lg&#101;r.w&#105;&#1
 01;s&#101;' + '&#64;' + 't&#97;&#117;chcl&#117;b-&#97;ct&#105;n&#105;&#97;'
  + '&#46;' + 'd&#101;';document.getElementById('cloak95fe0076562756b00ba9e2
 d000c963bd').innerHTML += '<a ' + path + '\'' + prefix + ':' + addy95fe0076
 562756b00ba9e2d000c963bd + '\' style="color: #0088cc;">'+addy_text95fe00765
 62756b00ba9e2d000c963bd+'';
		oder \nHelge Petersen\nDiese E-Mail-Adresse i
 st vor Spambots geschützt! Zur Anzeige muss JavaScript eingeschaltet sein!

 				document.getElementById('cloak024ee4f8487e0b6aee7559ae38d2e79a').innerH
 TML = '';
				var prefix = '&#109;a' + 'i&#108;' + '&#116;o';
				var path 
 = 'hr' + 'ef' + '=';
				var addy024ee4f8487e0b6aee7559ae38d2e79a = 'h&#101
 ;lg&#101;.p&#101;t&#101;rs&#101;n' + '&#64;';
				addy024ee4f8487e0b6aee755
 9ae38d2e79a = addy024ee4f8487e0b6aee7559ae38d2e79a + 't&#97;&#117;chcl&#117
 ;b-&#97;ct&#105;n&#97;' + '&#46;' + 'd&#101;';
				var addy_text024ee4f8487
 e0b6aee7559ae38d2e79a = 'h&#101;lg&#101;.p&#101;t&#101;rs&#101;n' + '&#64;'
  + 't&#97;&#117;chcl&#117;b-&#97;ct&#105;n&#97;' + '&#46;' + 'd&#101;';docu
 ment.getElementById('cloak024ee4f8487e0b6aee7559ae38d2e79a').innerHTML += '
 <a ' + path + '\'' + prefix + ':' + addy024ee4f8487e0b6aee7559ae38d2e79a + 
 '\' style="color: #0088cc;">'+addy_text024ee4f8487e0b6aee7559ae38d2e79a+'';
 
		
X-ALT-DESC;FMTTYPE=text/html:<p>Jeden Mittwoch findet unser Vereinstraining im Schwimmbad Itzehoe au&szl
 ig;erhalb der &Ouml;ffnungszeiten statt.</p><p>Anmeldungen bitte vorher &uu
 ml;ber Holger Wiese</p><table border="0" class="contentpaneopen" style="bac
 kground-color: #ffffff; width: 100%;" cellspacing="0" cellpadding="0"><tbod
 y><tr><td><span id="cloak84d60dc81fc746de5f37990fce7be6df"><span id="cloak9
 5fe0076562756b00ba9e2d000c963bd">Diese E-Mail-Adresse ist vor Spambots gesc
 hützt! Zur Anzeige muss JavaScript eingeschaltet sein!</span><script type='
 text/javascript'>
				document.getElementById('cloak95fe0076562756b00ba9e2d
 000c963bd').innerHTML = '';
				var prefix = '&#109;a' + 'i&#108;' + '&#116
 ;o';
				var path = 'hr' + 'ef' + '=';
				var addy95fe0076562756b00ba9e2d0
 00c963bd = 'h&#111;lg&#101;r.w&#105;&#101;s&#101;' + '&#64;';
				addy95fe0
 076562756b00ba9e2d000c963bd = addy95fe0076562756b00ba9e2d000c963bd + 't&#97
 ;&#117;chcl&#117;b-&#97;ct&#105;n&#105;&#97;' + '&#46;' + 'd&#101;';
				va
 r addy_text95fe0076562756b00ba9e2d000c963bd = 'h&#111;lg&#101;r.w&#105;&#10
 1;s&#101;' + '&#64;' + 't&#97;&#117;chcl&#117;b-&#97;ct&#105;n&#105;&#97;' 
 + '&#46;' + 'd&#101;';document.getElementById('cloak95fe0076562756b00ba9e2d
 000c963bd').innerHTML += '<a ' + path + '\'' + prefix + ':' + addy95fe00765
 62756b00ba9e2d000c963bd + '\' style="color: #0088cc;">'+addy_text95fe007656
 2756b00ba9e2d000c963bd+'<\/a>';
		</script></span></td></tr></tbody></table
 ><p>oder&nbsp;</p><p>Helge Petersen</p><table border="0" class="contentpane
 open" style="background-color: #ffffff; width: 100%;" cellspacing="0" cellp
 adding="0"><tbody><tr><td><span id="cloaka81524a96078e7deb8f5d87b444bd7bc">
 <span id="cloak024ee4f8487e0b6aee7559ae38d2e79a">Diese E-Mail-Adresse ist v
 or Spambots geschützt! Zur Anzeige muss JavaScript eingeschaltet sein!</spa
 n><script type='text/javascript'>
				document.getElementById('cloak024ee4f
 8487e0b6aee7559ae38d2e79a').innerHTML = '';
				var prefix = '&#109;a' + 'i
 &#108;' + '&#116;o';
				var path = 'hr' + 'ef' + '=';
				var addy024ee4f8
 487e0b6aee7559ae38d2e79a = 'h&#101;lg&#101;.p&#101;t&#101;rs&#101;n' + '&#6
 4;';
				addy024ee4f8487e0b6aee7559ae38d2e79a = addy024ee4f8487e0b6aee7559a
 e38d2e79a + 't&#97;&#117;chcl&#117;b-&#97;ct&#105;n&#97;' + '&#46;' + 'd&#1
 01;';
				var addy_text024ee4f8487e0b6aee7559ae38d2e79a = 'h&#101;lg&#101;.
 p&#101;t&#101;rs&#101;n' + '&#64;' + 't&#97;&#117;chcl&#117;b-&#97;ct&#105;
 n&#97;' + '&#46;' + 'd&#101;';document.getElementById('cloak024ee4f8487e0b6
 aee7559ae38d2e79a').innerHTML += '<a ' + path + '\'' + prefix + ':' + addy0
 24ee4f8487e0b6aee7559ae38d2e79a + '\' style="color: #0088cc;">'+addy_text02
 4ee4f8487e0b6aee7559ae38d2e79a+'<\/a>';
		</script></span></td></tr></tbody
 ></table>
DTSTAMP:20260420T000235
DTSTART;TZID=Europe/Berlin:20251105T080000
DTEND;TZID=Europe/Berlin:20251105T170000
SEQUENCE:0
TRANSP:OPAQUE
END:VEVENT
END:VCALENDAR