BEGIN:VCALENDAR
VERSION:2.0
PRODID:-//jEvents 2.0 for Joomla//EN
CALSCALE:GREGORIAN
METHOD:PUBLISH
BEGIN:VTIMEZONE
TZID:Europe/Berlin
BEGIN:STANDARD
DTSTART:20241027T020000
RDATE:20250330T030000
TZOFFSETFROM:+0200
TZOFFSETTO:+0100
TZNAME:Europe/Berlin CET
END:STANDARD
BEGIN:STANDARD
DTSTART:20251026T020000
RDATE:20260329T030000
TZOFFSETFROM:+0200
TZOFFSETTO:+0100
TZNAME:Europe/Berlin CET
END:STANDARD
BEGIN:STANDARD
DTSTART:20261025T020000
RDATE:20270328T030000
TZOFFSETFROM:+0200
TZOFFSETTO:+0100
TZNAME:Europe/Berlin CET
END:STANDARD
BEGIN:STANDARD
DTSTART:20271031T020000
RDATE:20280326T030000
TZOFFSETFROM:+0200
TZOFFSETTO:+0100
TZNAME:Europe/Berlin CET
END:STANDARD
BEGIN:STANDARD
DTSTART:20281029T020000
RDATE:20290325T030000
TZOFFSETFROM:+0200
TZOFFSETTO:+0100
TZNAME:Europe/Berlin CET
END:STANDARD
BEGIN:STANDARD
DTSTART:20291028T020000
RDATE:20300331T030000
TZOFFSETFROM:+0200
TZOFFSETTO:+0100
TZNAME:Europe/Berlin CET
END:STANDARD
BEGIN:STANDARD
DTSTART:20301027T020000
RDATE:20310330T030000
TZOFFSETFROM:+0200
TZOFFSETTO:+0100
TZNAME:Europe/Berlin CET
END:STANDARD
BEGIN:STANDARD
DTSTART:20311026T020000
RDATE:20320328T030000
TZOFFSETFROM:+0200
TZOFFSETTO:+0100
TZNAME:Europe/Berlin CET
END:STANDARD
BEGIN:DAYLIGHT
DTSTART:20240408T080000
RDATE:20241027T020000
TZOFFSETFROM:+0100
TZOFFSETTO:+0200
TZNAME:Europe/Berlin CEST
END:DAYLIGHT
BEGIN:DAYLIGHT
DTSTART:20250330T030000
RDATE:20251026T020000
TZOFFSETFROM:+0100
TZOFFSETTO:+0200
TZNAME:Europe/Berlin CEST
END:DAYLIGHT
BEGIN:DAYLIGHT
DTSTART:20260329T030000
RDATE:20261025T020000
TZOFFSETFROM:+0100
TZOFFSETTO:+0200
TZNAME:Europe/Berlin CEST
END:DAYLIGHT
BEGIN:DAYLIGHT
DTSTART:20270328T030000
RDATE:20271031T020000
TZOFFSETFROM:+0100
TZOFFSETTO:+0200
TZNAME:Europe/Berlin CEST
END:DAYLIGHT
BEGIN:DAYLIGHT
DTSTART:20280326T030000
RDATE:20281029T020000
TZOFFSETFROM:+0100
TZOFFSETTO:+0200
TZNAME:Europe/Berlin CEST
END:DAYLIGHT
BEGIN:DAYLIGHT
DTSTART:20290325T030000
RDATE:20291028T020000
TZOFFSETFROM:+0100
TZOFFSETTO:+0200
TZNAME:Europe/Berlin CEST
END:DAYLIGHT
BEGIN:DAYLIGHT
DTSTART:20300331T030000
RDATE:20301027T020000
TZOFFSETFROM:+0100
TZOFFSETTO:+0200
TZNAME:Europe/Berlin CEST
END:DAYLIGHT
BEGIN:DAYLIGHT
DTSTART:20310330T030000
RDATE:20311026T020000
TZOFFSETFROM:+0100
TZOFFSETTO:+0200
TZNAME:Europe/Berlin CEST
END:DAYLIGHT
END:VTIMEZONE
BEGIN:VEVENT
UID:ce863ba25053e585a8fceaa766440977
CATEGORIES:Training
CREATED:20250304T122232
SUMMARY:Vereinstraining Schwimmbad Itzehoe
DESCRIPTION:Jeden Mittwoch findet unser Vereinstraining im Schwimmbad Itzehoe außerhalb
  der Öffnungszeiten statt.\nAnmeldungen bitte vorher über Holger Wiese\nDie
 se E-Mail-Adresse ist vor Spambots geschützt! Zur Anzeige muss JavaScript e
 ingeschaltet sein!
				document.getElementById('cloakbea63bf5a8ba5052d6c3c8
 4c60e89909').innerHTML = '';
				var prefix = '&#109;a' + 'i&#108;' + '&#11
 6;o';
				var path = 'hr' + 'ef' + '=';
				var addybea63bf5a8ba5052d6c3c84
 c60e89909 = 'h&#111;lg&#101;r.w&#105;&#101;s&#101;' + '&#64;';
				addybea6
 3bf5a8ba5052d6c3c84c60e89909 = addybea63bf5a8ba5052d6c3c84c60e89909 + 't&#9
 7;&#117;chcl&#117;b-&#97;ct&#105;n&#105;&#97;' + '&#46;' + 'd&#101;';
				v
 ar addy_textbea63bf5a8ba5052d6c3c84c60e89909 = 'h&#111;lg&#101;r.w&#105;&#1
 01;s&#101;' + '&#64;' + 't&#97;&#117;chcl&#117;b-&#97;ct&#105;n&#105;&#97;'
  + '&#46;' + 'd&#101;';document.getElementById('cloakbea63bf5a8ba5052d6c3c8
 4c60e89909').innerHTML += '<a ' + path + '\'' + prefix + ':' + addybea63bf5
 a8ba5052d6c3c84c60e89909 + '\' style="color: #0088cc;">'+addy_textbea63bf5a
 8ba5052d6c3c84c60e89909+'';
		oder \nHelge Petersen\nDiese E-Mail-Adresse i
 st vor Spambots geschützt! Zur Anzeige muss JavaScript eingeschaltet sein!

 				document.getElementById('cloak5ef39e7613eed9444e61c0e1adedd3a9').innerH
 TML = '';
				var prefix = '&#109;a' + 'i&#108;' + '&#116;o';
				var path 
 = 'hr' + 'ef' + '=';
				var addy5ef39e7613eed9444e61c0e1adedd3a9 = 'h&#101
 ;lg&#101;.p&#101;t&#101;rs&#101;n' + '&#64;';
				addy5ef39e7613eed9444e61c
 0e1adedd3a9 = addy5ef39e7613eed9444e61c0e1adedd3a9 + 't&#97;&#117;chcl&#117
 ;b-&#97;ct&#105;n&#97;' + '&#46;' + 'd&#101;';
				var addy_text5ef39e7613e
 ed9444e61c0e1adedd3a9 = 'h&#101;lg&#101;.p&#101;t&#101;rs&#101;n' + '&#64;'
  + 't&#97;&#117;chcl&#117;b-&#97;ct&#105;n&#97;' + '&#46;' + 'd&#101;';docu
 ment.getElementById('cloak5ef39e7613eed9444e61c0e1adedd3a9').innerHTML += '
 <a ' + path + '\'' + prefix + ':' + addy5ef39e7613eed9444e61c0e1adedd3a9 + 
 '\' style="color: #0088cc;">'+addy_text5ef39e7613eed9444e61c0e1adedd3a9+'';
 
		
X-ALT-DESC;FMTTYPE=text/html:<p>Jeden Mittwoch findet unser Vereinstraining im Schwimmbad Itzehoe au&szl
 ig;erhalb der &Ouml;ffnungszeiten statt.</p><p>Anmeldungen bitte vorher &uu
 ml;ber Holger Wiese</p><table border="0" class="contentpaneopen" style="bac
 kground-color: #ffffff; width: 100%;" cellspacing="0" cellpadding="0"><tbod
 y><tr><td><span id="cloak84d60dc81fc746de5f37990fce7be6df"><span id="cloakb
 ea63bf5a8ba5052d6c3c84c60e89909">Diese E-Mail-Adresse ist vor Spambots gesc
 hützt! Zur Anzeige muss JavaScript eingeschaltet sein!</span><script type='
 text/javascript'>
				document.getElementById('cloakbea63bf5a8ba5052d6c3c84
 c60e89909').innerHTML = '';
				var prefix = '&#109;a' + 'i&#108;' + '&#116
 ;o';
				var path = 'hr' + 'ef' + '=';
				var addybea63bf5a8ba5052d6c3c84c
 60e89909 = 'h&#111;lg&#101;r.w&#105;&#101;s&#101;' + '&#64;';
				addybea63
 bf5a8ba5052d6c3c84c60e89909 = addybea63bf5a8ba5052d6c3c84c60e89909 + 't&#97
 ;&#117;chcl&#117;b-&#97;ct&#105;n&#105;&#97;' + '&#46;' + 'd&#101;';
				va
 r addy_textbea63bf5a8ba5052d6c3c84c60e89909 = 'h&#111;lg&#101;r.w&#105;&#10
 1;s&#101;' + '&#64;' + 't&#97;&#117;chcl&#117;b-&#97;ct&#105;n&#105;&#97;' 
 + '&#46;' + 'd&#101;';document.getElementById('cloakbea63bf5a8ba5052d6c3c84
 c60e89909').innerHTML += '<a ' + path + '\'' + prefix + ':' + addybea63bf5a
 8ba5052d6c3c84c60e89909 + '\' style="color: #0088cc;">'+addy_textbea63bf5a8
 ba5052d6c3c84c60e89909+'<\/a>';
		</script></span></td></tr></tbody></table
 ><p>oder&nbsp;</p><p>Helge Petersen</p><table border="0" class="contentpane
 open" style="background-color: #ffffff; width: 100%;" cellspacing="0" cellp
 adding="0"><tbody><tr><td><span id="cloaka81524a96078e7deb8f5d87b444bd7bc">
 <span id="cloak5ef39e7613eed9444e61c0e1adedd3a9">Diese E-Mail-Adresse ist v
 or Spambots geschützt! Zur Anzeige muss JavaScript eingeschaltet sein!</spa
 n><script type='text/javascript'>
				document.getElementById('cloak5ef39e7
 613eed9444e61c0e1adedd3a9').innerHTML = '';
				var prefix = '&#109;a' + 'i
 &#108;' + '&#116;o';
				var path = 'hr' + 'ef' + '=';
				var addy5ef39e76
 13eed9444e61c0e1adedd3a9 = 'h&#101;lg&#101;.p&#101;t&#101;rs&#101;n' + '&#6
 4;';
				addy5ef39e7613eed9444e61c0e1adedd3a9 = addy5ef39e7613eed9444e61c0e
 1adedd3a9 + 't&#97;&#117;chcl&#117;b-&#97;ct&#105;n&#97;' + '&#46;' + 'd&#1
 01;';
				var addy_text5ef39e7613eed9444e61c0e1adedd3a9 = 'h&#101;lg&#101;.
 p&#101;t&#101;rs&#101;n' + '&#64;' + 't&#97;&#117;chcl&#117;b-&#97;ct&#105;
 n&#97;' + '&#46;' + 'd&#101;';document.getElementById('cloak5ef39e7613eed94
 44e61c0e1adedd3a9').innerHTML += '<a ' + path + '\'' + prefix + ':' + addy5
 ef39e7613eed9444e61c0e1adedd3a9 + '\' style="color: #0088cc;">'+addy_text5e
 f39e7613eed9444e61c0e1adedd3a9+'<\/a>';
		</script></span></td></tr></tbody
 ></table>
DTSTAMP:20260419T184623
DTSTART;TZID=Europe/Berlin:20250409T080000
DTEND;TZID=Europe/Berlin:20250409T170000
SEQUENCE:0
TRANSP:OPAQUE
END:VEVENT
END:VCALENDAR