BEGIN:VCALENDAR
VERSION:2.0
PRODID:-//jEvents 2.0 for Joomla//EN
CALSCALE:GREGORIAN
METHOD:PUBLISH
BEGIN:VTIMEZONE
TZID:Europe/Berlin
BEGIN:STANDARD
DTSTART:20240318T080000
RDATE:20240331T030000
TZOFFSETFROM:+0200
TZOFFSETTO:+0100
TZNAME:Europe/Berlin CET
END:STANDARD
BEGIN:STANDARD
DTSTART:20241027T020000
RDATE:20250330T030000
TZOFFSETFROM:+0200
TZOFFSETTO:+0100
TZNAME:Europe/Berlin CET
END:STANDARD
BEGIN:STANDARD
DTSTART:20251026T020000
RDATE:20260329T030000
TZOFFSETFROM:+0200
TZOFFSETTO:+0100
TZNAME:Europe/Berlin CET
END:STANDARD
BEGIN:STANDARD
DTSTART:20261025T020000
RDATE:20270328T030000
TZOFFSETFROM:+0200
TZOFFSETTO:+0100
TZNAME:Europe/Berlin CET
END:STANDARD
BEGIN:STANDARD
DTSTART:20271031T020000
RDATE:20280326T030000
TZOFFSETFROM:+0200
TZOFFSETTO:+0100
TZNAME:Europe/Berlin CET
END:STANDARD
BEGIN:STANDARD
DTSTART:20281029T020000
RDATE:20290325T030000
TZOFFSETFROM:+0200
TZOFFSETTO:+0100
TZNAME:Europe/Berlin CET
END:STANDARD
BEGIN:STANDARD
DTSTART:20291028T020000
RDATE:20300331T030000
TZOFFSETFROM:+0200
TZOFFSETTO:+0100
TZNAME:Europe/Berlin CET
END:STANDARD
BEGIN:STANDARD
DTSTART:20301027T020000
RDATE:20310330T030000
TZOFFSETFROM:+0200
TZOFFSETTO:+0100
TZNAME:Europe/Berlin CET
END:STANDARD
BEGIN:STANDARD
DTSTART:20311026T020000
RDATE:20320328T030000
TZOFFSETFROM:+0200
TZOFFSETTO:+0100
TZNAME:Europe/Berlin CET
END:STANDARD
BEGIN:DAYLIGHT
DTSTART:20240331T030000
RDATE:20241027T020000
TZOFFSETFROM:+0100
TZOFFSETTO:+0200
TZNAME:Europe/Berlin CEST
END:DAYLIGHT
BEGIN:DAYLIGHT
DTSTART:20250330T030000
RDATE:20251026T020000
TZOFFSETFROM:+0100
TZOFFSETTO:+0200
TZNAME:Europe/Berlin CEST
END:DAYLIGHT
BEGIN:DAYLIGHT
DTSTART:20260329T030000
RDATE:20261025T020000
TZOFFSETFROM:+0100
TZOFFSETTO:+0200
TZNAME:Europe/Berlin CEST
END:DAYLIGHT
BEGIN:DAYLIGHT
DTSTART:20270328T030000
RDATE:20271031T020000
TZOFFSETFROM:+0100
TZOFFSETTO:+0200
TZNAME:Europe/Berlin CEST
END:DAYLIGHT
BEGIN:DAYLIGHT
DTSTART:20280326T030000
RDATE:20281029T020000
TZOFFSETFROM:+0100
TZOFFSETTO:+0200
TZNAME:Europe/Berlin CEST
END:DAYLIGHT
BEGIN:DAYLIGHT
DTSTART:20290325T030000
RDATE:20291028T020000
TZOFFSETFROM:+0100
TZOFFSETTO:+0200
TZNAME:Europe/Berlin CEST
END:DAYLIGHT
BEGIN:DAYLIGHT
DTSTART:20300331T030000
RDATE:20301027T020000
TZOFFSETFROM:+0100
TZOFFSETTO:+0200
TZNAME:Europe/Berlin CEST
END:DAYLIGHT
BEGIN:DAYLIGHT
DTSTART:20310330T030000
RDATE:20311026T020000
TZOFFSETFROM:+0100
TZOFFSETTO:+0200
TZNAME:Europe/Berlin CEST
END:DAYLIGHT
END:VTIMEZONE
BEGIN:VEVENT
UID:ce863ba25053e585a8fceaa766440977
CATEGORIES:Training
CREATED:20250304T122232
SUMMARY:Vereinstraining Schwimmbad Itzehoe
DESCRIPTION:Jeden Mittwoch findet unser Vereinstraining im Schwimmbad Itzehoe außerhalb
  der Öffnungszeiten statt.\nAnmeldungen bitte vorher über Holger Wiese\nDie
 se E-Mail-Adresse ist vor Spambots geschützt! Zur Anzeige muss JavaScript e
 ingeschaltet sein!
				document.getElementById('cloakdc37b59bd115deab75f626
 86cb4cc21c').innerHTML = '';
				var prefix = '&#109;a' + 'i&#108;' + '&#11
 6;o';
				var path = 'hr' + 'ef' + '=';
				var addydc37b59bd115deab75f6268
 6cb4cc21c = 'h&#111;lg&#101;r.w&#105;&#101;s&#101;' + '&#64;';
				addydc37
 b59bd115deab75f62686cb4cc21c = addydc37b59bd115deab75f62686cb4cc21c + 't&#9
 7;&#117;chcl&#117;b-&#97;ct&#105;n&#105;&#97;' + '&#46;' + 'd&#101;';
				v
 ar addy_textdc37b59bd115deab75f62686cb4cc21c = 'h&#111;lg&#101;r.w&#105;&#1
 01;s&#101;' + '&#64;' + 't&#97;&#117;chcl&#117;b-&#97;ct&#105;n&#105;&#97;'
  + '&#46;' + 'd&#101;';document.getElementById('cloakdc37b59bd115deab75f626
 86cb4cc21c').innerHTML += '<a ' + path + '\'' + prefix + ':' + addydc37b59b
 d115deab75f62686cb4cc21c + '\' style="color: #0088cc;">'+addy_textdc37b59bd
 115deab75f62686cb4cc21c+'';
		oder \nHelge Petersen\nDiese E-Mail-Adresse i
 st vor Spambots geschützt! Zur Anzeige muss JavaScript eingeschaltet sein!

 				document.getElementById('cloak6b83ff73889450d89a58435b721b1b88').innerH
 TML = '';
				var prefix = '&#109;a' + 'i&#108;' + '&#116;o';
				var path 
 = 'hr' + 'ef' + '=';
				var addy6b83ff73889450d89a58435b721b1b88 = 'h&#101
 ;lg&#101;.p&#101;t&#101;rs&#101;n' + '&#64;';
				addy6b83ff73889450d89a584
 35b721b1b88 = addy6b83ff73889450d89a58435b721b1b88 + 't&#97;&#117;chcl&#117
 ;b-&#97;ct&#105;n&#97;' + '&#46;' + 'd&#101;';
				var addy_text6b83ff73889
 450d89a58435b721b1b88 = 'h&#101;lg&#101;.p&#101;t&#101;rs&#101;n' + '&#64;'
  + 't&#97;&#117;chcl&#117;b-&#97;ct&#105;n&#97;' + '&#46;' + 'd&#101;';docu
 ment.getElementById('cloak6b83ff73889450d89a58435b721b1b88').innerHTML += '
 <a ' + path + '\'' + prefix + ':' + addy6b83ff73889450d89a58435b721b1b88 + 
 '\' style="color: #0088cc;">'+addy_text6b83ff73889450d89a58435b721b1b88+'';
 
		
X-ALT-DESC;FMTTYPE=text/html:<p>Jeden Mittwoch findet unser Vereinstraining im Schwimmbad Itzehoe au&szl
 ig;erhalb der &Ouml;ffnungszeiten statt.</p><p>Anmeldungen bitte vorher &uu
 ml;ber Holger Wiese</p><table border="0" class="contentpaneopen" style="bac
 kground-color: #ffffff; width: 100%;" cellspacing="0" cellpadding="0"><tbod
 y><tr><td><span id="cloak84d60dc81fc746de5f37990fce7be6df"><span id="cloakd
 c37b59bd115deab75f62686cb4cc21c">Diese E-Mail-Adresse ist vor Spambots gesc
 hützt! Zur Anzeige muss JavaScript eingeschaltet sein!</span><script type='
 text/javascript'>
				document.getElementById('cloakdc37b59bd115deab75f6268
 6cb4cc21c').innerHTML = '';
				var prefix = '&#109;a' + 'i&#108;' + '&#116
 ;o';
				var path = 'hr' + 'ef' + '=';
				var addydc37b59bd115deab75f62686
 cb4cc21c = 'h&#111;lg&#101;r.w&#105;&#101;s&#101;' + '&#64;';
				addydc37b
 59bd115deab75f62686cb4cc21c = addydc37b59bd115deab75f62686cb4cc21c + 't&#97
 ;&#117;chcl&#117;b-&#97;ct&#105;n&#105;&#97;' + '&#46;' + 'd&#101;';
				va
 r addy_textdc37b59bd115deab75f62686cb4cc21c = 'h&#111;lg&#101;r.w&#105;&#10
 1;s&#101;' + '&#64;' + 't&#97;&#117;chcl&#117;b-&#97;ct&#105;n&#105;&#97;' 
 + '&#46;' + 'd&#101;';document.getElementById('cloakdc37b59bd115deab75f6268
 6cb4cc21c').innerHTML += '<a ' + path + '\'' + prefix + ':' + addydc37b59bd
 115deab75f62686cb4cc21c + '\' style="color: #0088cc;">'+addy_textdc37b59bd1
 15deab75f62686cb4cc21c+'<\/a>';
		</script></span></td></tr></tbody></table
 ><p>oder&nbsp;</p><p>Helge Petersen</p><table border="0" class="contentpane
 open" style="background-color: #ffffff; width: 100%;" cellspacing="0" cellp
 adding="0"><tbody><tr><td><span id="cloaka81524a96078e7deb8f5d87b444bd7bc">
 <span id="cloak6b83ff73889450d89a58435b721b1b88">Diese E-Mail-Adresse ist v
 or Spambots geschützt! Zur Anzeige muss JavaScript eingeschaltet sein!</spa
 n><script type='text/javascript'>
				document.getElementById('cloak6b83ff7
 3889450d89a58435b721b1b88').innerHTML = '';
				var prefix = '&#109;a' + 'i
 &#108;' + '&#116;o';
				var path = 'hr' + 'ef' + '=';
				var addy6b83ff73
 889450d89a58435b721b1b88 = 'h&#101;lg&#101;.p&#101;t&#101;rs&#101;n' + '&#6
 4;';
				addy6b83ff73889450d89a58435b721b1b88 = addy6b83ff73889450d89a58435
 b721b1b88 + 't&#97;&#117;chcl&#117;b-&#97;ct&#105;n&#97;' + '&#46;' + 'd&#1
 01;';
				var addy_text6b83ff73889450d89a58435b721b1b88 = 'h&#101;lg&#101;.
 p&#101;t&#101;rs&#101;n' + '&#64;' + 't&#97;&#117;chcl&#117;b-&#97;ct&#105;
 n&#97;' + '&#46;' + 'd&#101;';document.getElementById('cloak6b83ff73889450d
 89a58435b721b1b88').innerHTML += '<a ' + path + '\'' + prefix + ':' + addy6
 b83ff73889450d89a58435b721b1b88 + '\' style="color: #0088cc;">'+addy_text6b
 83ff73889450d89a58435b721b1b88+'<\/a>';
		</script></span></td></tr></tbody
 ></table>
DTSTAMP:20260419T184857
DTSTART;TZID=Europe/Berlin:20250319T080000
DTEND;TZID=Europe/Berlin:20250319T170000
SEQUENCE:0
TRANSP:OPAQUE
END:VEVENT
END:VCALENDAR