BEGIN:VCALENDAR
VERSION:2.0
PRODID:-//jEvents 2.0 for Joomla//EN
CALSCALE:GREGORIAN
METHOD:PUBLISH
BEGIN:VTIMEZONE
TZID:Europe/Berlin
BEGIN:STANDARD
DTSTART:20240115T080000
RDATE:20240331T030000
TZOFFSETFROM:+0200
TZOFFSETTO:+0100
TZNAME:Europe/Berlin CET
END:STANDARD
BEGIN:STANDARD
DTSTART:20241027T020000
RDATE:20250330T030000
TZOFFSETFROM:+0200
TZOFFSETTO:+0100
TZNAME:Europe/Berlin CET
END:STANDARD
BEGIN:STANDARD
DTSTART:20251026T020000
RDATE:20260329T030000
TZOFFSETFROM:+0200
TZOFFSETTO:+0100
TZNAME:Europe/Berlin CET
END:STANDARD
BEGIN:STANDARD
DTSTART:20261025T020000
RDATE:20270328T030000
TZOFFSETFROM:+0200
TZOFFSETTO:+0100
TZNAME:Europe/Berlin CET
END:STANDARD
BEGIN:STANDARD
DTSTART:20271031T020000
RDATE:20280326T030000
TZOFFSETFROM:+0200
TZOFFSETTO:+0100
TZNAME:Europe/Berlin CET
END:STANDARD
BEGIN:STANDARD
DTSTART:20281029T020000
RDATE:20290325T030000
TZOFFSETFROM:+0200
TZOFFSETTO:+0100
TZNAME:Europe/Berlin CET
END:STANDARD
BEGIN:STANDARD
DTSTART:20291028T020000
RDATE:20300331T030000
TZOFFSETFROM:+0200
TZOFFSETTO:+0100
TZNAME:Europe/Berlin CET
END:STANDARD
BEGIN:STANDARD
DTSTART:20301027T020000
RDATE:20310330T030000
TZOFFSETFROM:+0200
TZOFFSETTO:+0100
TZNAME:Europe/Berlin CET
END:STANDARD
BEGIN:STANDARD
DTSTART:20311026T020000
RDATE:20320328T030000
TZOFFSETFROM:+0200
TZOFFSETTO:+0100
TZNAME:Europe/Berlin CET
END:STANDARD
BEGIN:DAYLIGHT
DTSTART:20240331T030000
RDATE:20241027T020000
TZOFFSETFROM:+0100
TZOFFSETTO:+0200
TZNAME:Europe/Berlin CEST
END:DAYLIGHT
BEGIN:DAYLIGHT
DTSTART:20250330T030000
RDATE:20251026T020000
TZOFFSETFROM:+0100
TZOFFSETTO:+0200
TZNAME:Europe/Berlin CEST
END:DAYLIGHT
BEGIN:DAYLIGHT
DTSTART:20260329T030000
RDATE:20261025T020000
TZOFFSETFROM:+0100
TZOFFSETTO:+0200
TZNAME:Europe/Berlin CEST
END:DAYLIGHT
BEGIN:DAYLIGHT
DTSTART:20270328T030000
RDATE:20271031T020000
TZOFFSETFROM:+0100
TZOFFSETTO:+0200
TZNAME:Europe/Berlin CEST
END:DAYLIGHT
BEGIN:DAYLIGHT
DTSTART:20280326T030000
RDATE:20281029T020000
TZOFFSETFROM:+0100
TZOFFSETTO:+0200
TZNAME:Europe/Berlin CEST
END:DAYLIGHT
BEGIN:DAYLIGHT
DTSTART:20290325T030000
RDATE:20291028T020000
TZOFFSETFROM:+0100
TZOFFSETTO:+0200
TZNAME:Europe/Berlin CEST
END:DAYLIGHT
BEGIN:DAYLIGHT
DTSTART:20300331T030000
RDATE:20301027T020000
TZOFFSETFROM:+0100
TZOFFSETTO:+0200
TZNAME:Europe/Berlin CEST
END:DAYLIGHT
BEGIN:DAYLIGHT
DTSTART:20310330T030000
RDATE:20311026T020000
TZOFFSETFROM:+0100
TZOFFSETTO:+0200
TZNAME:Europe/Berlin CEST
END:DAYLIGHT
END:VTIMEZONE
BEGIN:VEVENT
UID:ce863ba25053e585a8fceaa766440977
CATEGORIES:Training
CREATED:20250304T122232
SUMMARY:Vereinstraining Schwimmbad Itzehoe
DESCRIPTION:<p>Jeden Mittwoch findet unser Vereinstraining im Schwimmbad Itzehoe au&szl
 ig;erhalb der &Ouml;ffnungszeiten statt.</p><p>Anmeldungen bitte vorher &uu
 ml;ber Holger Wiese</p><table border="0" class="contentpaneopen" style="bac
 kground-color: #ffffff; width: 100%;" cellspacing="0" cellpadding="0"><tbod
 y><tr><td><span id="cloak84d60dc81fc746de5f37990fce7be6df"><span id="cloake
 1a0482159c67fd6f9bf7dd2b92c5bdc">Diese E-Mail-Adresse ist vor Spambots gesc
 hützt! Zur Anzeige muss JavaScript eingeschaltet sein!</span><script type='
 text/javascript'>
				document.getElementById('cloake1a0482159c67fd6f9bf7dd
 2b92c5bdc').innerHTML = '';
				var prefix = '&#109;a' + 'i&#108;' + '&#116
 ;o';
				var path = 'hr' + 'ef' + '=';
				var addye1a0482159c67fd6f9bf7dd2
 b92c5bdc = 'h&#111;lg&#101;r.w&#105;&#101;s&#101;' + '&#64;';
				addye1a04
 82159c67fd6f9bf7dd2b92c5bdc = addye1a0482159c67fd6f9bf7dd2b92c5bdc + 't&#97
 ;&#117;chcl&#117;b-&#97;ct&#105;n&#105;&#97;' + '&#46;' + 'd&#101;';
				va
 r addy_texte1a0482159c67fd6f9bf7dd2b92c5bdc = 'h&#111;lg&#101;r.w&#105;&#10
 1;s&#101;' + '&#64;' + 't&#97;&#117;chcl&#117;b-&#97;ct&#105;n&#105;&#97;' 
 + '&#46;' + 'd&#101;';document.getElementById('cloake1a0482159c67fd6f9bf7dd
 2b92c5bdc').innerHTML += '<a ' + path + '\'' + prefix + ':' + addye1a048215
 9c67fd6f9bf7dd2b92c5bdc + '\' style="color: #0088cc;">'+addy_texte1a0482159
 c67fd6f9bf7dd2b92c5bdc+'<\/a>';
		</script></span></td></tr></tbody></table
 ><p>oder&nbsp;</p><p>Helge Petersen</p><table border="0" class="contentpane
 open" style="background-color: #ffffff; width: 100%;" cellspacing="0" cellp
 adding="0"><tbody><tr><td><span id="cloaka81524a96078e7deb8f5d87b444bd7bc">
 <span id="cloak18d9352a51bd2573b586a326f0045a6a">Diese E-Mail-Adresse ist v
 or Spambots geschützt! Zur Anzeige muss JavaScript eingeschaltet sein!</spa
 n><script type='text/javascript'>
				document.getElementById('cloak18d9352
 a51bd2573b586a326f0045a6a').innerHTML = '';
				var prefix = '&#109;a' + 'i
 &#108;' + '&#116;o';
				var path = 'hr' + 'ef' + '=';
				var addy18d9352a
 51bd2573b586a326f0045a6a = 'h&#101;lg&#101;.p&#101;t&#101;rs&#101;n' + '&#6
 4;';
				addy18d9352a51bd2573b586a326f0045a6a = addy18d9352a51bd2573b586a32
 6f0045a6a + 't&#97;&#117;chcl&#117;b-&#97;ct&#105;n&#97;' + '&#46;' + 'd&#1
 01;';
				var addy_text18d9352a51bd2573b586a326f0045a6a = 'h&#101;lg&#101;.
 p&#101;t&#101;rs&#101;n' + '&#64;' + 't&#97;&#117;chcl&#117;b-&#97;ct&#105;
 n&#97;' + '&#46;' + 'd&#101;';document.getElementById('cloak18d9352a51bd257
 3b586a326f0045a6a').innerHTML += '<a ' + path + '\'' + prefix + ':' + addy1
 8d9352a51bd2573b586a326f0045a6a + '\' style="color: #0088cc;">'+addy_text18
 d9352a51bd2573b586a326f0045a6a+'<\/a>';
		</script></span></td></tr></tbody
 ></table>
DTSTAMP:20260419T185320
DTSTART;TZID=Europe/Berlin:20250115T080000
DTEND;TZID=Europe/Berlin:20250115T170000
SEQUENCE:0
TRANSP:OPAQUE
END:VEVENT
END:VCALENDAR